BEGIN:VCALENDAR
VERSION:2.0
PRODID:-//AudioTheme 2.3.8
BEGIN:VEVENT
UID:urn:uuid:6f310537-c54d-4ded-8c73-8ba177297c8d
URL:https://mitchmcvicker.com/concerts/gig-633/
DTSTART;TZID=GMT:20190405T230000
SUMMARY:Harvest Worship Center
LOCATION:Harvest Worship Center\, 23233 Wick Road\, Taylor\, MI\, 48180
END:VEVENT
END:VCALENDAR
