BEGIN:VCALENDAR
VERSION:2.0
PRODID:-//AudioTheme 2.3.8
BEGIN:VEVENT
UID:urn:uuid:6a644218-05e4-4c6e-90a2-5e27e8eb3439
URL:https://mitchmcvicker.com/concerts/gig-628/
DTSTART;TZID=GMT:20190320T230000
SUMMARY:One Hope Community Church
LOCATION:One Hope Community Church\, 4318 Lawrence St\, Philadelphia\, PA\, 19140
END:VEVENT
END:VCALENDAR
