BEGIN:VCALENDAR
VERSION:2.0
PRODID:-//AudioTheme 2.3.8
BEGIN:VEVENT
UID:urn:uuid:fd994508-95d6-40a6-95cd-db777c3b2606
URL:https://mitchmcvicker.com/concerts/gig-626/
DTSTART;TZID=GMT:20190505T233000
SUMMARY:The Sanctuary Restaurant
LOCATION:The Sanctuary Restaurant\, 207 S. Elm St.\, Shenandoah\, IA
END:VEVENT
END:VCALENDAR
