BEGIN:VCALENDAR
VERSION:2.0
PRODID:-//AudioTheme 2.3.8
BEGIN:VEVENT
UID:urn:uuid:2c341c93-0044-4f26-b401-28e29d665905
URL:https://mitchmcvicker.com/concerts/gig-617/
DTSTART;TZID=GMT:20190308T000000
SUMMARY:Shalom Baptist Church
LOCATION:Shalom Baptist Church\, 259 S 2nd St\, Byesville\, OH\, 43723
END:VEVENT
END:VCALENDAR
