BEGIN:VCALENDAR
VERSION:2.0
PRODID:-//AudioTheme 2.3.8
BEGIN:VEVENT
UID:urn:uuid:d94c68bc-5acc-43ca-9352-a3e8e5a904ae
URL:https://mitchmcvicker.com/concerts/gig-612/
DTSTART;TZID=GMT:20190324T220000
SUMMARY:Colonial Heights Christian Church
LOCATION:Colonial Heights Christian Church\, 105 Meadow Lane\, Kingsport\, TN\, 37663
END:VEVENT
END:VCALENDAR
