BEGIN:VCALENDAR
VERSION:2.0
PRODID:-//AudioTheme 2.3.8
BEGIN:VEVENT
UID:urn:uuid:f2a02071-9e8a-406b-b7dc-9120f12b24af
URL:https://mitchmcvicker.com/concerts/gig-610/
DTSTART;TZID=GMT:20190607T003000
SUMMARY:Newcastle City Park
LOCATION:Newcastle City Park\, Hosted by Newcastle UMC\, Newcastle\, TX
END:VEVENT
END:VCALENDAR
