BEGIN:VCALENDAR
VERSION:2.0
PRODID:-//AudioTheme 2.3.8
BEGIN:VEVENT
UID:urn:uuid:4db8109a-6f62-48ff-b071-9defb09e0028
URL:https://mitchmcvicker.com/concerts/gig-598/
DTSTART;TZID=GMT:20190519T160000
SUMMARY:West Ridge Community Church
LOCATION:West Ridge Community Church\, 3300 Encounter Lane\, Elgin\, IL\, 60124
END:VEVENT
END:VCALENDAR
