BEGIN:VCALENDAR
VERSION:2.0
PRODID:-//AudioTheme 2.3.8
BEGIN:VEVENT
UID:urn:uuid:1829af96-cbe2-4d65-8f73-b18160f1e428
URL:https://mitchmcvicker.com/concerts/gig-595/
DTSTART;TZID=GMT:20190831T230000
SUMMARY:Rock Lake Christian Assembly Camp - Open to Public
LOCATION:Rock Lake Christian Assembly Camp - Open to Public\, 7389 Vestaburg Rd\, Vestaburg\, MI\, 48891
END:VEVENT
END:VCALENDAR
