BEGIN:VCALENDAR
VERSION:2.0
PRODID:-//AudioTheme 2.3.8
BEGIN:VEVENT
UID:urn:uuid:103061a1-e383-4717-9df2-88d9cc969351
URL:https://mitchmcvicker.com/concerts/gig-593/
DTSTART;TZID=GMT:20191020T000000
SUMMARY:Samantha's Lil Bit of Heaven
LOCATION:Samantha's Lil Bit of Heaven\, 287 Larkfield Rd\, East Northport\, NY\, 11731
END:VEVENT
END:VCALENDAR
