BEGIN:VCALENDAR
VERSION:2.0
PRODID:-//AudioTheme 2.3.8
BEGIN:VEVENT
UID:urn:uuid:ed6961ac-b9fe-43c3-a3fc-484b95e8a5c7
URL:https://mitchmcvicker.com/concerts/gig-591/
DTSTART;TZID=GMT:20191018T230000
SUMMARY:Community Coffeehouse
LOCATION:Community Coffeehouse\, 7 Madison Ave\, Danbury\, CT\, 06810
END:VEVENT
END:VCALENDAR
