BEGIN:VCALENDAR
VERSION:2.0
PRODID:-//AudioTheme 2.3.8
BEGIN:VEVENT
UID:urn:uuid:c75bc4f7-bba1-4e9e-9479-0be6497b5fa6
URL:https://mitchmcvicker.com/concerts/gig-589/
DTSTART;TZID=GMT:20190901T200000
SUMMARY:Little Galilee Christian Camp - Open to Public
LOCATION:Little Galilee Christian Camp - Open to Public\, 7539 Little Galilee Rd\, Clinton\, IL\, 61727
END:VEVENT
END:VCALENDAR
