BEGIN:VCALENDAR
VERSION:2.0
PRODID:-//AudioTheme 2.3.8
BEGIN:VEVENT
UID:urn:uuid:76710f26-67c2-4755-8444-83736adb6169
URL:https://mitchmcvicker.com/concerts/gig-587/
DTSTART;TZID=GMT:20190606T003000
SUMMARY:Hope Covenant Church
LOCATION:Hope Covenant Church\, 2585 N. Debra Dr\, El Dorado\, KS\, 67042
END:VEVENT
END:VCALENDAR
