BEGIN:VCALENDAR
VERSION:2.0
PRODID:-//AudioTheme 2.3.8
BEGIN:VEVENT
UID:urn:uuid:dfa74c6a-0e6b-403c-89ae-c7419096ff29
URL:https://mitchmcvicker.com/concerts/gig-586/
DTSTART;TZID=GMT:20190603T000000
SUMMARY:POSTPONED
LOCATION:POSTPONED\, POSTPONED Valley Center\, KS\, 67147
END:VEVENT
END:VCALENDAR
