BEGIN:VCALENDAR
VERSION:2.0
PRODID:-//AudioTheme 2.3.8
BEGIN:VEVENT
UID:urn:uuid:ac841bea-2f17-4eaf-9a6e-59ba59ebfd41
URL:https://mitchmcvicker.com/concerts/gig-584/
DTSTART;TZID=GMT:20190601T230000
SUMMARY:Middle River Friends Church
LOCATION:Middle River Friends Church\, 4057 S23 Hwy\, Carlisle\, IA\, 50047
END:VEVENT
END:VCALENDAR
