BEGIN:VCALENDAR
VERSION:2.0
PRODID:-//AudioTheme 2.3.8
BEGIN:VEVENT
UID:urn:uuid:32fb9622-6951-4412-bc25-8ebc0dac77ba
URL:https://mitchmcvicker.com/concerts/gig-582/
DTSTART;TZID=GMT:20190530T000000
SUMMARY:Fox River Lutheran Church
LOCATION:Fox River Lutheran Church\, 2785 E. US 52\, Sheridan\, IL\, 60551
END:VEVENT
END:VCALENDAR
