BEGIN:VCALENDAR
VERSION:2.0
PRODID:-//AudioTheme 2.3.8
BEGIN:VEVENT
UID:urn:uuid:ba804ac6-b072-4eda-947a-a08a2c3a99b5
URL:https://mitchmcvicker.com/concerts/gig-580/
DTSTART;TZID=GMT:20190504T000000
SUMMARY:Peace Presbyterian Church
LOCATION:Peace Presbyterian Church\, 333 South 204th St\, Elkhorn\, NE\, 68022
END:VEVENT
END:VCALENDAR
