BEGIN:VCALENDAR
VERSION:2.0
PRODID:-//AudioTheme 2.3.8
BEGIN:VEVENT
UID:urn:uuid:17c17fef-0b58-485e-943d-bbe8eb541766
URL:https://mitchmcvicker.com/concerts/gig-576/
DTSTART;TZID=GMT:20190517T000000
SUMMARY:Forward Community Church
LOCATION:Forward Community Church\, 298 Missouri State Rd 131\, Holden\, MO\, 64040
END:VEVENT
END:VCALENDAR
