BEGIN:VCALENDAR
VERSION:2.0
PRODID:-//AudioTheme 2.3.8
BEGIN:VEVENT
UID:urn:uuid:504aa5c4-fbbd-4367-a30a-e8d25fbf2ad3
URL:https://mitchmcvicker.com/concerts/gig-574/
DTSTART;TZID=GMT:20190519T000000
SUMMARY:Kruse Barn - Open to Public
LOCATION:Kruse Barn - Open to Public\, 40W785 Bowes Bend Drive\, Elgin\, IL\, 60124-8324
END:VEVENT
END:VCALENDAR
