BEGIN:VCALENDAR
VERSION:2.0
PRODID:-//AudioTheme 2.3.8
BEGIN:VEVENT
UID:urn:uuid:1e4da014-2eb6-492c-9b0b-864743de69a3
URL:https://mitchmcvicker.com/concerts/gig-569/
DTSTART;TZID=GMT:20190518T000000
SUMMARY:Topeka Free Methodist Church
LOCATION:Topeka Free Methodist Church\, 3450 SE Indiana Ave.\, Topeka\, KS
END:VEVENT
END:VCALENDAR
