BEGIN:VCALENDAR
VERSION:2.0
PRODID:-//AudioTheme 2.3.8
BEGIN:VEVENT
UID:urn:uuid:f3eb5a1f-a1b9-4af7-b4d7-cc48c8a0c2c7
URL:https://mitchmcvicker.com/concerts/gig-568/
DTSTART;TZID=GMT:20190428T230000
SUMMARY:Clemons United Church of Christ
LOCATION:Clemons United Church of Christ\, 301 Maple Street\, Clemons\, IA\, 50051
END:VEVENT
END:VCALENDAR
