BEGIN:VCALENDAR
VERSION:2.0
PRODID:-//AudioTheme 2.3.8
BEGIN:VEVENT
UID:urn:uuid:d339043d-818b-4aee-99b7-a2fa722a7de9
URL:https://mitchmcvicker.com/concerts/gig-5652/
DTSTART;TZID=GMT:20260612T230000
SUMMARY:Central Vineyard Chuirch
LOCATION:Central Vineyard Chuirch\, 55 E Blake Ave\, Columbus\, OH\, 43202
END:VEVENT
END:VCALENDAR
