BEGIN:VCALENDAR
VERSION:2.0
PRODID:-//AudioTheme 2.3.8
BEGIN:VEVENT
UID:urn:uuid:f7d337e9-559c-4d92-b78c-b02b2e23d540
URL:https://mitchmcvicker.com/concerts/gig-5635/
DTSTART;TZID=GMT:20260726T000000
SUMMARY:Grace Church
LOCATION:Grace Church\, 440 N Illinois Ave\, Mason City\, IA\, 50401
END:VEVENT
END:VCALENDAR
