BEGIN:VCALENDAR
VERSION:2.0
PRODID:-//AudioTheme 2.3.8
BEGIN:VEVENT
UID:urn:uuid:f0421945-344e-4579-a7ff-ec6b42e6a45b
URL:https://mitchmcvicker.com/concerts/gig-5633/
DTSTART;TZID=GMT:20260611T230000
SUMMARY:Adamsville Presbyterian Church
LOCATION:Adamsville Presbyterian Church\, 3879 Main St\, Adamsville\, PA\, 16110
END:VEVENT
END:VCALENDAR
