BEGIN:VCALENDAR
VERSION:2.0
PRODID:-//AudioTheme 2.3.8
BEGIN:VEVENT
UID:urn:uuid:050fdbe3-a378-4e91-b2dd-325b6d41314f
URL:https://mitchmcvicker.com/concerts/gig-563/
DTSTART;TZID=GMT:20190427T000000
SUMMARY:Eastview Christian Church
LOCATION:Eastview Christian Church\, 727 Collins Rd NE\, Cedar Rapids\, IA\, 52402
END:VEVENT
END:VCALENDAR
