BEGIN:VCALENDAR
VERSION:2.0
PRODID:-//AudioTheme 2.3.8
BEGIN:VEVENT
UID:urn:uuid:8d3bb7d3-8cab-4da8-b890-9af7589e0f8c
URL:https://mitchmcvicker.com/concerts/gig-5629/
DTSTART;TZID=GMT:20260909T000000
SUMMARY:Tennessee Prairie Church
LOCATION:Tennessee Prairie Church\, 11370 SE 110th\, Galena\, KS\, 66739
END:VEVENT
END:VCALENDAR
