BEGIN:VCALENDAR
VERSION:2.0
PRODID:-//AudioTheme 2.3.8
BEGIN:VEVENT
UID:urn:uuid:9fd6b830-f0c1-4c36-ba39-9b7d5776c081
URL:https://mitchmcvicker.com/concerts/gig-5627/
DTSTART;TZID=GMT:20260531T220000
SUMMARY:Shamokin Christian and Missionary Alliance Church
LOCATION:Shamokin Christian and Missionary Alliance Church\, 114 N 2nd St\, Shamokin\, PA\, 17872
END:VEVENT
END:VCALENDAR
