BEGIN:VCALENDAR
VERSION:2.0
PRODID:-//AudioTheme 2.3.8
BEGIN:VEVENT
UID:urn:uuid:757ac120-452d-45d1-a8f6-2a717d620fed
URL:https://mitchmcvicker.com/concerts/gig-5625/
DTSTART;TZID=GMT:20260917T000000
SUMMARY:Salina Heights Christian Church
LOCATION:Salina Heights Christian Church\, 801 E Cloud\, Salina\, KS\, 67401
END:VEVENT
END:VCALENDAR
