BEGIN:VCALENDAR
VERSION:2.0
PRODID:-//AudioTheme 2.3.8
BEGIN:VEVENT
UID:urn:uuid:84a10305-51ca-4757-a30a-c3785fa697e3
URL:https://mitchmcvicker.com/concerts/gig-5621/
DTSTART;TZID=GMT:20260919T003000
SUMMARY:Hazelwood Baptist Church
LOCATION:Hazelwood Baptist Church\, 6161 Howdershell Rd\, Hazelwood\, MO\, 63042
END:VEVENT
END:VCALENDAR
