BEGIN:VCALENDAR
VERSION:2.0
PRODID:-//AudioTheme 2.3.8
BEGIN:VEVENT
UID:urn:uuid:4fe915bf-adcd-4be2-a849-5a602eb9d5b7
URL:https://mitchmcvicker.com/concerts/gig-562/
DTSTART;TZID=GMT:20190424T233000
SUMMARY:Trinity Lutheran Church
LOCATION:Trinity Lutheran Church\, 1410 Rogers St\, Stevens Point\, WI\, USA\, 54481
END:VEVENT
END:VCALENDAR
