BEGIN:VCALENDAR
VERSION:2.0
PRODID:-//AudioTheme 2.3.8
BEGIN:VEVENT
UID:urn:uuid:34b5974b-d68c-4a41-9677-687344943f38
URL:https://mitchmcvicker.com/concerts/gig-5613/
DTSTART;TZID=GMT:20260820T230000
SUMMARY:Whitewater Christian Church
LOCATION:Whitewater Christian Church\, 7918 State Road 227 N\, Whitewater\, IN
END:VEVENT
END:VCALENDAR
