BEGIN:VCALENDAR
VERSION:2.0
PRODID:-//AudioTheme 2.3.8
BEGIN:VEVENT
UID:urn:uuid:741b1b92-cd5c-4059-b1b5-5d4bc32e4ba0
URL:https://mitchmcvicker.com/concerts/gig-561/
DTSTART;TZID=GMT:20190406T230000
SUMMARY:Beloit Road Baptist Church
LOCATION:Beloit Road Baptist Church\, 8337 W Beloit Rd\, West Allis\, WI\, 53219
END:VEVENT
END:VCALENDAR
