BEGIN:VCALENDAR
VERSION:2.0
PRODID:-//AudioTheme 2.3.8
BEGIN:VEVENT
UID:urn:uuid:d2965b50-bca4-4c76-aed0-df3486168966
URL:https://mitchmcvicker.com/concerts/gig-5609/
DTSTART;TZID=GMT:20260913T230000
SUMMARY:Heritage Methodist Church
LOCATION:Heritage Methodist Church\, 929 Texas St\, Graham\, TX\, 76450
END:VEVENT
END:VCALENDAR
