BEGIN:VCALENDAR
VERSION:2.0
PRODID:-//AudioTheme 2.3.8
BEGIN:VEVENT
UID:urn:uuid:a90987d2-1ac2-4429-994e-89e35aa70935
URL:https://mitchmcvicker.com/concerts/gig-5608/
DTSTART;TZID=GMT:20260416T230000
SUMMARY:Muskingum University Theatre
LOCATION:Muskingum University Theatre\, 163 Stormont St\, New Concord\, OH
END:VEVENT
END:VCALENDAR
