BEGIN:VCALENDAR
VERSION:2.0
PRODID:-//AudioTheme 2.3.8
BEGIN:VEVENT
UID:urn:uuid:dcaf4663-2b0d-4478-b970-ce1c9f3cd4d0
URL:https://mitchmcvicker.com/concerts/gig-5607/
DTSTART;TZID=GMT:20261030T000000
SUMMARY:Countryside Church
LOCATION:Countryside Church\, 301 Green St\, Merrillan\, WI
END:VEVENT
END:VCALENDAR
