BEGIN:VCALENDAR
VERSION:2.0
PRODID:-//AudioTheme 2.3.8
BEGIN:VEVENT
UID:urn:uuid:5ab2db21-8d65-47e6-91aa-e7e85c811229
URL:https://mitchmcvicker.com/concerts/gig-5605/
DTSTART;TZID=GMT:20260823T220000
SUMMARY:Lake Orion United Methodist Church
LOCATION:Lake Orion United Methodist Church\, 140 E Flint St\, Lake Orion\, MI\, 48362
END:VEVENT
END:VCALENDAR
