BEGIN:VCALENDAR
VERSION:2.0
PRODID:-//AudioTheme 2.3.8
BEGIN:VEVENT
UID:urn:uuid:838388dd-4236-476f-bfbb-0973ff8452ee
URL:https://mitchmcvicker.com/concerts/gig-5602/
DTSTART;TZID=GMT:20260822T230000
SUMMARY:Trinity Center
LOCATION:Trinity Center\, 4794 N Vine St\, Amo\, IN\, 46103
END:VEVENT
END:VCALENDAR
