BEGIN:VCALENDAR
VERSION:2.0
PRODID:-//AudioTheme 2.3.8
BEGIN:VEVENT
UID:urn:uuid:e501ed7a-57a8-400f-8460-8c5765347d31
URL:https://mitchmcvicker.com/concerts/gig-554/
DTSTART;TZID=GMT:20190323T230000
SUMMARY:Central Baptist Church
LOCATION:Central Baptist Church\, 201 US Highway 70 SW E\, Hildebran\, NC
END:VEVENT
END:VCALENDAR
