BEGIN:VCALENDAR
VERSION:2.0
PRODID:-//AudioTheme 2.3.8
BEGIN:VEVENT
UID:urn:uuid:a4424f01-8618-4c94-b863-ed4860c2ceb9
URL:https://mitchmcvicker.com/concerts/gig-550/
DTSTART;TZID=GMT:20190321T230000
SUMMARY:Faith In Christ Church
LOCATION:Faith In Christ Church\, 100 Municipal Bldg Rd\, Duncannon\, PA\, 17020
END:VEVENT
END:VCALENDAR
