BEGIN:VCALENDAR
VERSION:2.0
PRODID:-//AudioTheme 2.3.8
BEGIN:VEVENT
UID:urn:uuid:ea313851-efcf-4dce-8acd-8c16f57594e8
URL:https://mitchmcvicker.com/concerts/gig-548/
DTSTART;TZID=GMT:20190310T220000
SUMMARY:POSTPONED
LOCATION:POSTPONED\, POSTPONED Woonsocket\, RI
END:VEVENT
END:VCALENDAR
