BEGIN:VCALENDAR
VERSION:2.0
PRODID:-//AudioTheme 2.3.8
BEGIN:VEVENT
UID:urn:uuid:e0998585-0197-40ba-aa15-1205e3d0e79b
URL:https://mitchmcvicker.com/concerts/gig-5461/
DTSTART;TZID=GMT:20251025T000000
SUMMARY:Faith Evangelical Free Church
LOCATION:Faith Evangelical Free Church\, 90 East St.\, Boyceville\, WI
END:VEVENT
END:VCALENDAR
