BEGIN:VCALENDAR
VERSION:2.0
PRODID:-//AudioTheme 2.3.8
BEGIN:VEVENT
UID:urn:uuid:8050cd53-d422-47c9-b4e7-91faa4fccff0
URL:https://mitchmcvicker.com/concerts/gig-546/
DTSTART;TZID=GMT:20190310T000000
SUMMARY:Jersey Shore Calvary Chapel
LOCATION:Jersey Shore Calvary Chapel\, 708 McLean Ave\, Point Pleasant Beach\, NJ\, 08742
END:VEVENT
END:VCALENDAR
