BEGIN:VCALENDAR
VERSION:2.0
PRODID:-//AudioTheme 2.3.8
BEGIN:VEVENT
UID:urn:uuid:dcbb6323-3a2f-4317-8f3c-9d296a6c5733
URL:https://mitchmcvicker.com/concerts/gig-5446/
DTSTART;TZID=GMT:20251015T230000
SUMMARY:Private Event
LOCATION:Private Event\, South Bend\, IN
END:VEVENT
END:VCALENDAR
