BEGIN:VCALENDAR
VERSION:2.0
PRODID:-//AudioTheme 2.3.8
BEGIN:VEVENT
UID:urn:uuid:c9ea7529-6532-4c2d-aa74-d49abd4992b0
URL:https://mitchmcvicker.com/concerts/gig-543/
DTSTART;TZID=GMT:20190309T000000
SUMMARY:Zion Lutheran Church
LOCATION:Zion Lutheran Church\, 2215 Brandywine Lane\, York\, PA\, 17404
END:VEVENT
END:VCALENDAR
