BEGIN:VCALENDAR
VERSION:2.0
PRODID:-//AudioTheme 2.3.8
BEGIN:VEVENT
UID:urn:uuid:f78a6a42-4265-48c4-a09e-9ab235a11cfd
URL:https://mitchmcvicker.com/concerts/gig-5417/
DTSTART;TZID=GMT:20250819T230000
SUMMARY:Red Dog Children's Museum
LOCATION:Red Dog Children's Museum\, 407 N 8th St\, Garden City\, KS
END:VEVENT
END:VCALENDAR
