BEGIN:VCALENDAR
VERSION:2.0
PRODID:-//AudioTheme 2.3.8
BEGIN:VEVENT
UID:urn:uuid:12272ef9-b41d-4074-ad41-39b165857d8f
URL:https://mitchmcvicker.com/concerts/gig-5411/
DTSTART;TZID=GMT:20250823T010000
SUMMARY:Tooh Worship Center
LOCATION:Tooh Worship Center\, 8 ne heights dr or sage rd\, Shiprock\, NM
END:VEVENT
END:VCALENDAR
