BEGIN:VCALENDAR
VERSION:2.0
PRODID:-//AudioTheme 2.3.8
BEGIN:VEVENT
UID:urn:uuid:76bf339c-544f-4ae3-81d8-05d7732f3464
URL:https://mitchmcvicker.com/concerts/gig-5408/
DTSTART;TZID=GMT:20250911T163000
SUMMARY:Indigenous Bible College
LOCATION:Indigenous Bible College\, 2227 E Cedar Avenue\, Flagstaff\, AZ
END:VEVENT
END:VCALENDAR
