BEGIN:VCALENDAR
VERSION:2.0
PRODID:-//AudioTheme 2.3.8
BEGIN:VEVENT
UID:urn:uuid:6076fb27-6269-4b62-a889-5e72addb26fe
URL:https://mitchmcvicker.com/concerts/gig-5391/
DTSTART;TZID=GMT:20250814T000000
SUMMARY:Harmon Park Sonotorium
LOCATION:Harmon Park Sonotorium\, 3100 5th Ave\, Kearney\, NE
END:VEVENT
END:VCALENDAR
