BEGIN:VCALENDAR
VERSION:2.0
PRODID:-//AudioTheme 2.3.8
BEGIN:VEVENT
UID:urn:uuid:aeb08f35-4c76-442e-a7a9-afdf64825ba6
URL:https://mitchmcvicker.com/concerts/gig-5386/
DTSTART;TZID=GMT:20251001T230000
SUMMARY:Advent Lutheran Church
LOCATION:Advent Lutheran Church\, 45 Worthington Mill Rd\, Richboro\, PA\, USA\, 18954
END:VEVENT
END:VCALENDAR
