BEGIN:VCALENDAR
VERSION:2.0
PRODID:-//AudioTheme 2.3.8
BEGIN:VEVENT
UID:urn:uuid:c24d2607-c8a3-4e7d-94ff-f11606c9a6d9
URL:https://mitchmcvicker.com/concerts/gig-5385/
DTSTART;TZID=GMT:20250914T000000
SUMMARY:Topeka Free Methodist Church
LOCATION:Topeka Free Methodist Church\, 3450 SE Indiana Ave.\, Topeka\, KS
END:VEVENT
END:VCALENDAR
