BEGIN:VCALENDAR
VERSION:2.0
PRODID:-//AudioTheme 2.3.8
BEGIN:VEVENT
UID:urn:uuid:4e757e0e-397f-493d-a2f7-ce5aa7ae50a7
URL:https://mitchmcvicker.com/concerts/gig-5382/
DTSTART;TZID=GMT:20250608T141500
SUMMARY:Fox River Lutheran Church
LOCATION:Fox River Lutheran Church\, 2785 E. US 52\, Sheridan\, IL\, 60551
END:VEVENT
END:VCALENDAR
